BEGIN:VCALENDAR
VERSION:2.0
PRODID:-//Gospelchor Children of Joy - ECPv6.0.8//NONSGML v1.0//EN
CALSCALE:GREGORIAN
METHOD:PUBLISH
X-ORIGINAL-URL:https://www.children-of-joy.de
X-WR-CALDESC:Events for Gospelchor Children of Joy
REFRESH-INTERVAL;VALUE=DURATION:PT1H
X-Robots-Tag:noindex
X-PUBLISHED-TTL:PT1H
BEGIN:VTIMEZONE
TZID:Europe/Berlin
BEGIN:DAYLIGHT
TZOFFSETFROM:+0100
TZOFFSETTO:+0200
TZNAME:CEST
DTSTART:20250330T010000
END:DAYLIGHT
BEGIN:STANDARD
TZOFFSETFROM:+0200
TZOFFSETTO:+0100
TZNAME:CET
DTSTART:20251026T010000
END:STANDARD
BEGIN:DAYLIGHT
TZOFFSETFROM:+0100
TZOFFSETTO:+0200
TZNAME:CEST
DTSTART:20260329T010000
END:DAYLIGHT
BEGIN:STANDARD
TZOFFSETFROM:+0200
TZOFFSETTO:+0100
TZNAME:CET
DTSTART:20261025T010000
END:STANDARD
TZID:UTC
BEGIN:STANDARD
TZOFFSETFROM:+0000
TZOFFSETTO:+0000
TZNAME:UTC
DTSTART:20260101T000000
END:STANDARD
END:VTIMEZONE
BEGIN:VEVENT
DTSTART;TZID=Europe/Berlin:20260308T100000
DTEND;TZID=Europe/Berlin:20260308T110000
DTSTAMP:20260419T184024
CREATED:20190512T131430Z
LAST-MODIFIED:20251211T111956Z
UID:1244-1772964000-1772967600@www.children-of-joy.de
SUMMARY:Gottesdienst in Musberg 08.03.2027
DESCRIPTION:Die Children of Joy live erleben – beim Gottesdienst in der Dreifaltigkeitskirche von Musberg! \nWir freuen uns wie immer sehr darauf\, in unserer Heimatkirchengemeinde den Gottesdienst musikalisch zu begleiten.
URL:https://www.children-of-joy.de/event/gottesdienst-le-musberg-maerz/
LOCATION:Dreifaltigkeitskirche Musberg\, Kirchplatz 2\, Leinfelden-Echterdingen\, 70771\, Deutschland
CATEGORIES:Our Events,Upcoming Events
ATTACH;FMTTYPE=image/jpeg:https://www.children-of-joy.de/wp-content/uploads/2024/01/ChildrenOfJoy_small-6.jpg
ORGANIZER;CN="Evangelische%20Kirchengemeinde%20Musberg":MAILTO:pfarramt.musberg@elkw.de
END:VEVENT
BEGIN:VEVENT
DTSTART;TZID=UTC:20260208T100000
DTEND;TZID=UTC:20260208T110000
DTSTAMP:20260419T184024
CREATED:20170126T142536Z
LAST-MODIFIED:20251211T111653Z
UID:279-1770544800-1770548400@www.children-of-joy.de
SUMMARY:Gottesdienst in Musberg 08.02.2026
DESCRIPTION:Die Children freuen sich sehr\, den Gottesdienst in unserer wundervollen Heimatkirche in Musberg mit unserer Gospelmusik zu begleiten.\n 
URL:https://www.children-of-joy.de/event/gottesdienst-musberg-februar/
LOCATION:Dreifaltigkeitskirche Musberg\, Kirchplatz 1\, Leinfelden-Echterdingen\, 70771\, Deutschland
CATEGORIES:Our Events,Upcoming Events
ATTACH;FMTTYPE=image/jpeg:https://www.children-of-joy.de/wp-content/uploads/2019/12/PHOTO-2023-04-30-14-47-56_3.jpg
ORGANIZER;CN="Evangelische%20Kirchengemeinde%20Musberg":MAILTO:pfarramt.musberg@elkw.de
END:VEVENT
BEGIN:VEVENT
DTSTART;TZID=Europe/Berlin:20251221T170000
DTEND;TZID=Europe/Berlin:20251221T180000
DTSTAMP:20260419T184024
CREATED:20191210T231548Z
LAST-MODIFIED:20251113T125415Z
UID:1954-1766336400-1766340000@www.children-of-joy.de
SUMMARY:Weihnachtskonzert #2 am 21.12.2025
DESCRIPTION:Traditionell kurz vor Weihnachten ein weiteres unserer Jahres-Highlights:\nDas zweite unserer beiden Weihnachtskonzerte 2025 – in LE-Echterdingen in der Evangelischen Stephanuskirche!\nBeginn ist 17 Uhr – Einlass ist 16:30 Uhr\n\nSingt\, klatscht & tanzt mit uns!\nFreut Euch mit uns auf unsere Lieblingssongs & Weihnachts-Gospels!\nViele davon werdet Ihr bereits kennen!\nDer Eintritt ist frei\, aber natürlich freuen wir uns riesig über Eure großzügige Spende.
URL:https://www.children-of-joy.de/event/weihnachtskonzert-am-21-12-2025/
LOCATION:Stephanuskirche Leinfelden-Echterdigen\, Backhausgasse 4\, Leinfelden-Echterdingen\, 70771\, Deutschland
CATEGORIES:Our Events,Upcoming Events
ATTACH;FMTTYPE=image/png:https://www.children-of-joy.de/wp-content/uploads/2021/11/Banner-COJ2025-Weihnachtskonzert-3.png
ORGANIZER;CN="Gospelchor%20Children%20of%20Joy":MAILTO:info@children-of-joy.de
END:VEVENT
BEGIN:VEVENT
DTSTART;TZID=Europe/Berlin:20251220T190000
DTEND;TZID=Europe/Berlin:20251220T200000
DTSTAMP:20260419T184024
CREATED:20211121T175132Z
LAST-MODIFIED:20251113T125440Z
UID:2373-1766257200-1766260800@www.children-of-joy.de
SUMMARY:Weihnachtskonzert #1 am 20.12.2025
DESCRIPTION:Kurz vor Weihnachten eines unserer Jahres-Highlights:\nUnser erstes der beiden Weihnachtskonzerte 2025 – in unserer wunderschönen Musberger Heimatkirche.\nBeginn ist 19 Uhr – Einlass um 18.30 Uhr\n\nSingt\, klatscht & tanzt mit uns!\nFreut Euch mit uns auf unsere Lieblingssongs & Weihnachts-Gospels!\nDer Eintritt ist frei\, aber natürlich freuen wir uns riesig über Eure großzügige Spende. \n  \n 
URL:https://www.children-of-joy.de/event/weihnachtskonzert-am-21-12-2025-in-musberg/
LOCATION:Dreifaltigkeitskirche Musberg\, Kirchplatz 1\, Leinfelden-Echterdingen\, 70771\, Deutschland
CATEGORIES:Our Events,Upcoming Events
ATTACH;FMTTYPE=image/png:https://www.children-of-joy.de/wp-content/uploads/2021/11/Banner-COJ2025-Weihnachtskonzert-3.png
ORGANIZER;CN="Gospelchor%20Children%20of%20Joy":MAILTO:info@children-of-joy.de
END:VEVENT
END:VCALENDAR